BEGIN:VCALENDAR
VERSION:2.0
PRODID:-//McDougall Photographic - ECPv6.15.18//NONSGML v1.0//EN
CALSCALE:GREGORIAN
METHOD:PUBLISH
X-WR-CALNAME:McDougall Photographic
X-ORIGINAL-URL:https://www.mcdougallphotographic.co.uk
X-WR-CALDESC:Events for McDougall Photographic
REFRESH-INTERVAL;VALUE=DURATION:PT1H
X-Robots-Tag:noindex
X-PUBLISHED-TTL:PT1H
BEGIN:VTIMEZONE
TZID:UTC
BEGIN:STANDARD
TZOFFSETFROM:+0000
TZOFFSETTO:+0000
TZNAME:UTC
DTSTART:20250101T000000
END:STANDARD
END:VTIMEZONE
BEGIN:VEVENT
DTSTART;TZID=UTC:20261119T090000
DTEND;TZID=UTC:20261119T130000
DTSTAMP:20260423T215422
CREATED:20251222T161428Z
LAST-MODIFIED:20251231T152838Z
UID:13378-1795078800-1795093200@www.mcdougallphotographic.co.uk
SUMMARY:Wildlife Photography for Beginners 19-11-26
DESCRIPTION:Beginners Wildlife Photography Workshop \nLocation: Glasgow \nMy popular beginner’s wildlife photography workshop is designed for people who are new to wildlife photography and for those people who just want to understand how their camera works and how they can maximise the equipment that they have to get better images. \nMany people have attended this workshop with NO photography knowledge and often attendees have basic camera equipment. \nThroughout the beginners wildlife photography workshop I will set your camera up with you to ensure that you are simplifying the camera settings as much as possible and making you comfortable with adjusting minimum settings to get maximum results. \nThe focus of the workshop is on capturing images of common species in a different way\, so we will be photographing swans\, ducks and other water birds. I will also explain a little about the behaviour of the birds so that you can look for specific shots. \nBy the end of the workshop you will be confident in using your camera and adjusting settings to achieve the results that you want. \nCourse Contents\n• Camera Set Up\n• Understanding Exposure\n• Focus Modes\n• White Balance\n• Composition\n• Exposure Compensation
URL:https://www.mcdougallphotographic.co.uk/event/wildlife-photography-for-beginners-24/
LOCATION:Glasgow
CATEGORIES:Photography Workshops
ATTACH;FMTTYPE=image/jpeg:https://www.mcdougallphotographic.co.uk/wp-content/uploads/2025/09/Beginners-feature.jpg
END:VEVENT
BEGIN:VEVENT
DTSTART;VALUE=DATE:20261121
DTEND;VALUE=DATE:20261125
DTSTAMP:20260423T215422
CREATED:20251222T162201Z
LAST-MODIFIED:20251231T152818Z
UID:13384-1795219200-1795564799@www.mcdougallphotographic.co.uk
SUMMARY:Isle of Mull - Otter Workshop 21-11-26
DESCRIPTION:Isle of Mull – Otter Workshop \nLocation: Isle of Mull \nThis is a 4 day workshop to give you the best opportunity to photograph otters. \nThe Isle of Mull has a very healthy population of Otters yet they can be both elusive and frustrating. Sightings can never be guaranteed\, and many frustrating hours can be spent walking or driving and searching the coastline. \nOtters are mythical creatures and many people have never seen an Otter. However\, they have often seen their signs\, i.e. their spraint or droppings. Here on Mull\, the otter hunts during the day and they are more governed by the state of the tide\, than whether it is morning or night. Otters are only occasionally seen in fresh water here\, and it is just offshore near seaweed covered rocks where you will most likely see one. \nThey find their prey mostly in the sea\, but they are not sea otters\, a different species found on the Pacific coast. The Mull otter is the Eurasian otter\, Lutra lutra\, a member of the Mustelid family which also includes Badgers\, Mink and Pine Marten. The Eurasian Otter is the only species of otter in the UK\, occupying sea\, rivers and lakes across the country. An adult otter will be about 1-1.2 metres long from tip of the nose to end of the tail. \nWhen the sea is calm\, it may be easier to spot an otter swimming on the surface while fishing. However wild the weather\, otters must try to look for food\, so otters can be seen in all weathers at all times of the day. \nThis workshop is designed to give you the best opportunity to photograph otters. Nothing is guaranteed\, but we will search for them in the best locations. You will be given advice on the correct fieldcraft to use\, what signs to look for and the best settings to capture some incredible otter images\, \nMull also has a wealth of other wildlife and away from the otters we will attempt to find White Tailed Eagle\, Golden Eagle\, Hen Harrier\, Short eared Owl and Red Deer. \nThe Schedule Will be as follows:\nDay 1: Arrival (approx. 1pm)– Afternoon/Evening Otters\nDay 2: Full Day Otters\nDay 3: Full Day Otters\nDay 4: Departure (approx. 1pm) – Early morning Otters \nThe price includes all transport whilst on the Isle of Mull and all photographic guiding. \nThe price does not include accommodation. \nIt also excludes all meals.
URL:https://www.mcdougallphotographic.co.uk/event/isle-of-mull-otter-workshop-2/
LOCATION:Isle of Mull
CATEGORIES:Photography Workshops
ATTACH;FMTTYPE=image/jpeg:https://www.mcdougallphotographic.co.uk/wp-content/uploads/2025/09/mull-otter-feature.jpg
END:VEVENT
BEGIN:VEVENT
DTSTART;VALUE=DATE:20261125
DTEND;VALUE=DATE:20261129
DTSTAMP:20260423T215422
CREATED:20251222T162458Z
LAST-MODIFIED:20251231T152759Z
UID:13387-1795564800-1795910399@www.mcdougallphotographic.co.uk
SUMMARY:Isle of Mull - Otter Workshop 25-11-26
DESCRIPTION:Isle of Mull – Otter Workshop \nLocation: Isle of Mull \nThis is a 4 day workshop to give you the best opportunity to photograph otters. \nThe Isle of Mull has a very healthy population of Otters yet they can be both elusive and frustrating. Sightings can never be guaranteed\, and many frustrating hours can be spent walking or driving and searching the coastline. \nOtters are mythical creatures and many people have never seen an Otter. However\, they have often seen their signs\, i.e. their spraint or droppings. Here on Mull\, the otter hunts during the day and they are more governed by the state of the tide\, than whether it is morning or night. Otters are only occasionally seen in fresh water here\, and it is just offshore near seaweed covered rocks where you will most likely see one. \nThey find their prey mostly in the sea\, but they are not sea otters\, a different species found on the Pacific coast. The Mull otter is the Eurasian otter\, Lutra lutra\, a member of the Mustelid family which also includes Badgers\, Mink and Pine Marten. The Eurasian Otter is the only species of otter in the UK\, occupying sea\, rivers and lakes across the country. An adult otter will be about 1-1.2 metres long from tip of the nose to end of the tail. \nWhen the sea is calm\, it may be easier to spot an otter swimming on the surface while fishing. However wild the weather\, otters must try to look for food\, so otters can be seen in all weathers at all times of the day. \nThis workshop is designed to give you the best opportunity to photograph otters. Nothing is guaranteed\, but we will search for them in the best locations. You will be given advice on the correct fieldcraft to use\, what signs to look for and the best settings to capture some incredible otter images\, \nMull also has a wealth of other wildlife and away from the otters we will attempt to find White Tailed Eagle\, Golden Eagle\, Hen Harrier\, Short eared Owl and Red Deer. \nThe Schedule Will be as follows:\nDay 1: Arrival (approx. 1pm)– Afternoon/Evening Otters\nDay 2: Full Day Otters\nDay 3: Full Day Otters\nDay 4: Departure (approx. 1pm) – Early morning Otters \nThe price includes all transport whilst on the Isle of Mull and all photographic guiding. \nThe price does not include accommodation. \nIt also excludes all meals.
URL:https://www.mcdougallphotographic.co.uk/event/isle-of-mull-otter-workshop-3/
LOCATION:Isle of Mull
CATEGORIES:Photography Workshops
ATTACH;FMTTYPE=image/jpeg:https://www.mcdougallphotographic.co.uk/wp-content/uploads/2025/09/mull-otter-feature.jpg
END:VEVENT
BEGIN:VEVENT
DTSTART;TZID=UTC:20261130T090000
DTEND;TZID=UTC:20261130T130000
DTSTAMP:20260423T215422
CREATED:20251222T163311Z
LAST-MODIFIED:20251231T152723Z
UID:13390-1796029200-1796043600@www.mcdougallphotographic.co.uk
SUMMARY:Wildlife Photography for Beginners 30-11-26
DESCRIPTION:Beginners Wildlife Photography Workshop \nLocation: Glasgow \nMy popular beginner’s wildlife photography workshop is designed for people who are new to wildlife photography and for those people who just want to understand how their camera works and how they can maximise the equipment that they have to get better images. \nMany people have attended this workshop with NO photography knowledge and often attendees have basic camera equipment. \nThroughout the beginners wildlife photography workshop I will set your camera up with you to ensure that you are simplifying the camera settings as much as possible and making you comfortable with adjusting minimum settings to get maximum results. \nThe focus of the workshop is on capturing images of common species in a different way\, so we will be photographing swans\, ducks and other water birds. I will also explain a little about the behaviour of the birds so that you can look for specific shots. \nBy the end of the workshop you will be confident in using your camera and adjusting settings to achieve the results that you want. \nCourse Contents\n• Camera Set Up\n• Understanding Exposure\n• Focus Modes\n• White Balance\n• Composition\n• Exposure Compensation
URL:https://www.mcdougallphotographic.co.uk/event/wildlife-photography-for-beginners-25/
LOCATION:Glasgow
CATEGORIES:Photography Workshops
ATTACH;FMTTYPE=image/jpeg:https://www.mcdougallphotographic.co.uk/wp-content/uploads/2025/09/Beginners-feature.jpg
END:VEVENT
END:VCALENDAR